BEGIN:VCALENDAR
VERSION:2.0
PRODID:-//DGMEFM Network - ECPv6.15.11//NONSGML v1.0//EN
CALSCALE:GREGORIAN
METHOD:PUBLISH
X-WR-CALNAME:DGMEFM Network
X-ORIGINAL-URL:https://dgmefm.org.uk
X-WR-CALDESC:Events for DGMEFM Network
REFRESH-INTERVAL;VALUE=DURATION:PT1H
X-Robots-Tag:noindex
X-PUBLISHED-TTL:PT1H
BEGIN:VTIMEZONE
TZID:Europe/London
BEGIN:DAYLIGHT
TZOFFSETFROM:+0000
TZOFFSETTO:+0100
TZNAME:BST
DTSTART:20250330T010000
END:DAYLIGHT
BEGIN:STANDARD
TZOFFSETFROM:+0100
TZOFFSETTO:+0000
TZNAME:GMT
DTSTART:20251026T010000
END:STANDARD
BEGIN:DAYLIGHT
TZOFFSETFROM:+0000
TZOFFSETTO:+0100
TZNAME:BST
DTSTART:20260329T010000
END:DAYLIGHT
BEGIN:STANDARD
TZOFFSETFROM:+0100
TZOFFSETTO:+0000
TZNAME:GMT
DTSTART:20261025T010000
END:STANDARD
BEGIN:DAYLIGHT
TZOFFSETFROM:+0000
TZOFFSETTO:+0100
TZNAME:BST
DTSTART:20270328T010000
END:DAYLIGHT
BEGIN:STANDARD
TZOFFSETFROM:+0100
TZOFFSETTO:+0000
TZNAME:GMT
DTSTART:20271031T010000
END:STANDARD
END:VTIMEZONE
BEGIN:VEVENT
DTSTART;TZID=Europe/London:20260330T100000
DTEND;TZID=Europe/London:20260430T160000
DTSTAMP:20260421T100611
CREATED:20260309T121410Z
LAST-MODIFIED:20260309T121410Z
UID:5059-1774864800-1777564800@dgmefm.org.uk
SUMMARY:Emergence self portrait exhibition - Kirkcudbright galleries (cafe)
DESCRIPTION:The 5 Emergence self-portraits created by our members will be on display at Kirkcudbright Galleries from 30th March for a month.  Pop along to the cafe to have a look. Open Monday – Saturday: 10am – 4pm\, and Sundays: 11:30-4pm
URL:https://dgmefm.org.uk/event/emergence-self-portrait-exhibition-kirkcudbright-galleries-cafe/
LOCATION:Kirkcudbright Galleries\, Kirkcudbright Galleries\, St. Mary Street\, \,\, Kirkcudbright\, Dumfries and Galloway\, DG6 4AA\, United Kingdom
ORGANIZER;CN="Christine Aitchison":MAILTO:christine@dgmefm.org.uk
END:VEVENT
BEGIN:VEVENT
DTSTART;TZID=Europe/London:20260417T130000
DTEND;TZID=Europe/London:20260417T150000
DTSTAMP:20260421T100611
CREATED:20260309T121757Z
LAST-MODIFIED:20260309T122207Z
UID:5062-1776430800-1776438000@dgmefm.org.uk
SUMMARY:Castle Douglas Meet up and Spring activity
DESCRIPTION:Come along for a lovely afternoon of chatting with friends over coffee and cake. We will also have a small Spring activity\nIf there is anything in particular you would like information on or discussed at the meeting let me know.\nTo book a place email kalpana@dgmefm.org.uk
URL:https://dgmefm.org.uk/event/castle-douglas-meet-up-and-spring-activity/
LOCATION:Gordon Memorial Hall\, 68 St Andrew Street\, Castle Douglas\, DG7 1EN\, United Kingdom
END:VEVENT
BEGIN:VEVENT
DTSTART;TZID=Europe/London:20260417T144500
DTEND;TZID=Europe/London:20260417T160000
DTSTAMP:20260421T100611
CREATED:20260209T131355Z
LAST-MODIFIED:20260309T122725Z
UID:5030-1776437100-1776441600@dgmefm.org.uk
SUMMARY:Sound bath - Annan
DESCRIPTION:A sound bath is a deeply immersive\, meditative experience where participants relax\, sitting or lying down\, while being enveloped by resonant sounds from instruments like singing bowls\, gongs\, chimes\, and drums. This is a fully funded activity.\nParking is available directly outside the venue.\nBook using the Eventbrite link: https://www.eventbrite.co.uk/e/sound-bath-annan-tickets-1982674542930?aff=oddtdtcreator …Continue Reading→
URL:https://dgmefm.org.uk/event/sound-bath-annan/
LOCATION:Annan Old Parish Hall\, Church Street\, Annan\, DG12 6DS\, United Kingdom
ORGANIZER;CN="Christine Aitchison":MAILTO:christine@dgmefm.org.uk
END:VEVENT
END:VCALENDAR